BEGIN:VCALENDAR
VERSION:2.0
PRODID:-//Urker Mannenkwartet - ECPv6.15.20//NONSGML v1.0//EN
CALSCALE:GREGORIAN
METHOD:PUBLISH
X-ORIGINAL-URL:https://urkermannenkwartet.nl
X-WR-CALDESC:Evenementen voor Urker Mannenkwartet
REFRESH-INTERVAL;VALUE=DURATION:PT1H
X-Robots-Tag:noindex
X-PUBLISHED-TTL:PT1H
BEGIN:VTIMEZONE
TZID:Europe/Amsterdam
BEGIN:DAYLIGHT
TZOFFSETFROM:+0100
TZOFFSETTO:+0200
TZNAME:CEST
DTSTART:20250330T010000
END:DAYLIGHT
BEGIN:STANDARD
TZOFFSETFROM:+0200
TZOFFSETTO:+0100
TZNAME:CET
DTSTART:20251026T010000
END:STANDARD
BEGIN:DAYLIGHT
TZOFFSETFROM:+0100
TZOFFSETTO:+0200
TZNAME:CEST
DTSTART:20260329T010000
END:DAYLIGHT
BEGIN:STANDARD
TZOFFSETFROM:+0200
TZOFFSETTO:+0100
TZNAME:CET
DTSTART:20261025T010000
END:STANDARD
BEGIN:DAYLIGHT
TZOFFSETFROM:+0100
TZOFFSETTO:+0200
TZNAME:CEST
DTSTART:20270328T010000
END:DAYLIGHT
BEGIN:STANDARD
TZOFFSETFROM:+0200
TZOFFSETTO:+0100
TZNAME:CET
DTSTART:20271031T010000
END:STANDARD
END:VTIMEZONE
BEGIN:VEVENT
DTSTART;TZID=Europe/Amsterdam:20260624T193000
DTEND;TZID=Europe/Amsterdam:20260624T210000
DTSTAMP:20260416T094453
CREATED:20260117T185812Z
LAST-MODIFIED:20260117T185813Z
UID:10000035-1782329400-1782334800@urkermannenkwartet.nl
SUMMARY:Zomeravondzang
DESCRIPTION:Toegang gratis – collecte
URL:https://urkermannenkwartet.nl/concert/zomeravondzang-2/
LOCATION:Dorpskerk Woudenberg\, Schoutstraat 8a\, Woudenberg\, 3931 HT\, Netherlands
ATTACH;FMTTYPE=image/jpeg:https://urkermannenkwartet.nl/wp-content/uploads/2026/01/0941d916-228f-4224-8cb0-2ec3ae92a400_thumb1920.jpg
END:VEVENT
END:VCALENDAR