BEGIN:VCALENDAR
VERSION:2.0
PRODID:-//Urker Mannenkwartet - ECPv6.15.20//NONSGML v1.0//EN
CALSCALE:GREGORIAN
METHOD:PUBLISH
X-ORIGINAL-URL:https://urkermannenkwartet.nl
X-WR-CALDESC:Evenementen voor Urker Mannenkwartet
REFRESH-INTERVAL;VALUE=DURATION:PT1H
X-Robots-Tag:noindex
X-PUBLISHED-TTL:PT1H
BEGIN:VTIMEZONE
TZID:UTC
BEGIN:STANDARD
TZOFFSETFROM:+0000
TZOFFSETTO:+0000
TZNAME:UTC
DTSTART:20240101T000000
END:STANDARD
END:VTIMEZONE
BEGIN:VEVENT
DTSTART;TZID=UTC:20250118T190000
DTEND;TZID=UTC:20250118T203000
DTSTAMP:20260421T133208
CREATED:20250101T184939Z
LAST-MODIFIED:20250106T123753Z
UID:10000005-1737226800-1737232200@urkermannenkwartet.nl
SUMMARY:Zingend naar de Zondag
DESCRIPTION:Toegang gratis – collectesamenzang vanaf 18.50 uur
URL:https://urkermannenkwartet.nl/concert/zingend-naar-de-zondag/
LOCATION:Poststraatkerk Stadskanaal\, Poststraat 30\, Stadskanaal\, 9501 ER\, Netherlands
ATTACH;FMTTYPE=image/jpeg:https://urkermannenkwartet.nl/wp-content/uploads/2025/01/pagina01-scaled.jpg
END:VEVENT
END:VCALENDAR