BEGIN:VCALENDAR
VERSION:2.0
PRODID:-//Urker Mannenkwartet - ECPv6.15.20//NONSGML v1.0//EN
CALSCALE:GREGORIAN
METHOD:PUBLISH
X-WR-CALNAME:Urker Mannenkwartet
X-ORIGINAL-URL:https://urkermannenkwartet.nl
X-WR-CALDESC:Evenementen voor Urker Mannenkwartet
REFRESH-INTERVAL;VALUE=DURATION:PT1H
X-Robots-Tag:noindex
X-PUBLISHED-TTL:PT1H
BEGIN:VTIMEZONE
TZID:UTC
BEGIN:STANDARD
TZOFFSETFROM:+0000
TZOFFSETTO:+0000
TZNAME:UTC
DTSTART:20250101T000000
END:STANDARD
END:VTIMEZONE
BEGIN:VEVENT
DTSTART;TZID=UTC:20261212T200000
DTEND;TZID=UTC:20261212T220000
DTSTAMP:20260421T114954
CREATED:20250826T052955Z
LAST-MODIFIED:20250826T052955Z
UID:10000026-1797105600-1797112800@urkermannenkwartet.nl
SUMMARY:Manna & UMK in Concert
DESCRIPTION:Toegang gratis – collecte
URL:https://urkermannenkwartet.nl/concert/manna-umk-in-concert/
LOCATION:Prot. Gemeente Tijnje\, Rolbrêgedyk 6\, Tijnje\, 8406 AN\, Netherlands
ATTACH;FMTTYPE=image/jpeg:https://urkermannenkwartet.nl/wp-content/uploads/2025/08/1280px-De_Tynje_Rolbregedyk_6_Grifformearde_tsjerke_oersjoch_ynterieur.jpg
END:VEVENT
END:VCALENDAR